BEGIN:VCALENDAR
VERSION:2.0
PRODID:-//Eagle Valley Community Foundation - ECPv6.15.20//NONSGML v1.0//EN
CALSCALE:GREGORIAN
METHOD:PUBLISH
X-ORIGINAL-URL:https://eaglevalleycf.org
X-WR-CALDESC:Events for Eagle Valley Community Foundation
REFRESH-INTERVAL;VALUE=DURATION:PT1H
X-Robots-Tag:noindex
X-PUBLISHED-TTL:PT1H
BEGIN:VTIMEZONE
TZID:UTC
BEGIN:STANDARD
TZOFFSETFROM:+0000
TZOFFSETTO:+0000
TZNAME:UTC
DTSTART:20250101T000000
END:STANDARD
END:VTIMEZONE
BEGIN:VEVENT
DTSTART;TZID=UTC:20260513T130000
DTEND;TZID=UTC:20260513T180000
DTSTAMP:20260422T092713
CREATED:20260120T212435Z
LAST-MODIFIED:20260120T212435Z
UID:10012629-1778677200-1778695200@eaglevalleycf.org
SUMMARY:The Community Market Edwards
DESCRIPTION:The Community Market offers fresh\, free groceries to Eagle County residents in need to shop at their convenience.
URL:https://eaglevalleycf.org/event/the-community-market-edwards-6/2026-05-13/
LOCATION:The Community Market Edwards\, 429 Edwards Access Rd A202\, Edwards\, CO\, 81632\, United States
CATEGORIES:Community Market
ATTACH;FMTTYPE=image/jpeg:https://eaglevalleycf.org/wp-content/uploads/2026/01/TCM-Edwards-Window-Graphics-IMG_6929.jpg
END:VEVENT
BEGIN:VEVENT
DTSTART;TZID=UTC:20260514T130000
DTEND;TZID=UTC:20260514T180000
DTSTAMP:20260422T092713
CREATED:20260120T212435Z
LAST-MODIFIED:20260120T212435Z
UID:10012630-1778763600-1778781600@eaglevalleycf.org
SUMMARY:The Community Market Edwards
DESCRIPTION:The Community Market offers fresh\, free groceries to Eagle County residents in need to shop at their convenience.
URL:https://eaglevalleycf.org/event/the-community-market-edwards-6/2026-05-14/
LOCATION:The Community Market Edwards\, 429 Edwards Access Rd A202\, Edwards\, CO\, 81632\, United States
CATEGORIES:Community Market
ATTACH;FMTTYPE=image/jpeg:https://eaglevalleycf.org/wp-content/uploads/2026/01/TCM-Edwards-Window-Graphics-IMG_6929.jpg
END:VEVENT
BEGIN:VEVENT
DTSTART;TZID=UTC:20260516T100000
DTEND;TZID=UTC:20260516T130000
DTSTAMP:20260422T092713
CREATED:20260120T204437Z
LAST-MODIFIED:20260120T204517Z
UID:10012494-1778925600-1778936400@eaglevalleycf.org
SUMMARY:The Community Market Edwards
DESCRIPTION:The Community Market offers fresh\, free groceries to Eagle County residents in need to shop at their convenience.
URL:https://eaglevalleycf.org/event/the-community-market-edwards-5/2026-05-16/
LOCATION:The Community Market Edwards\, 429 Edwards Access Rd A202\, Edwards\, CO\, 81632\, United States
CATEGORIES:Community Market
ATTACH;FMTTYPE=image/jpeg:https://eaglevalleycf.org/wp-content/uploads/2026/01/TCM-Edwards-Window-Graphics-IMG_6929.jpg
END:VEVENT
BEGIN:VEVENT
DTSTART;TZID=UTC:20260519T130000
DTEND;TZID=UTC:20260519T180000
DTSTAMP:20260422T092713
CREATED:20260120T212435Z
LAST-MODIFIED:20260120T212435Z
UID:10012631-1779195600-1779213600@eaglevalleycf.org
SUMMARY:The Community Market Edwards
DESCRIPTION:The Community Market offers fresh\, free groceries to Eagle County residents in need to shop at their convenience.
URL:https://eaglevalleycf.org/event/the-community-market-edwards-6/2026-05-19/
LOCATION:The Community Market Edwards\, 429 Edwards Access Rd A202\, Edwards\, CO\, 81632\, United States
CATEGORIES:Community Market
ATTACH;FMTTYPE=image/jpeg:https://eaglevalleycf.org/wp-content/uploads/2026/01/TCM-Edwards-Window-Graphics-IMG_6929.jpg
END:VEVENT
BEGIN:VEVENT
DTSTART;TZID=UTC:20260520T130000
DTEND;TZID=UTC:20260520T180000
DTSTAMP:20260422T092713
CREATED:20260120T212435Z
LAST-MODIFIED:20260120T212435Z
UID:10012632-1779282000-1779300000@eaglevalleycf.org
SUMMARY:The Community Market Edwards
DESCRIPTION:The Community Market offers fresh\, free groceries to Eagle County residents in need to shop at their convenience.
URL:https://eaglevalleycf.org/event/the-community-market-edwards-6/2026-05-20/
LOCATION:The Community Market Edwards\, 429 Edwards Access Rd A202\, Edwards\, CO\, 81632\, United States
CATEGORIES:Community Market
ATTACH;FMTTYPE=image/jpeg:https://eaglevalleycf.org/wp-content/uploads/2026/01/TCM-Edwards-Window-Graphics-IMG_6929.jpg
END:VEVENT
BEGIN:VEVENT
DTSTART;TZID=UTC:20260521T130000
DTEND;TZID=UTC:20260521T180000
DTSTAMP:20260422T092713
CREATED:20260120T212435Z
LAST-MODIFIED:20260120T212435Z
UID:10012633-1779368400-1779386400@eaglevalleycf.org
SUMMARY:The Community Market Edwards
DESCRIPTION:The Community Market offers fresh\, free groceries to Eagle County residents in need to shop at their convenience.
URL:https://eaglevalleycf.org/event/the-community-market-edwards-6/2026-05-21/
LOCATION:The Community Market Edwards\, 429 Edwards Access Rd A202\, Edwards\, CO\, 81632\, United States
CATEGORIES:Community Market
ATTACH;FMTTYPE=image/jpeg:https://eaglevalleycf.org/wp-content/uploads/2026/01/TCM-Edwards-Window-Graphics-IMG_6929.jpg
END:VEVENT
BEGIN:VEVENT
DTSTART;TZID=UTC:20260523T100000
DTEND;TZID=UTC:20260523T130000
DTSTAMP:20260422T092713
CREATED:20260120T204437Z
LAST-MODIFIED:20260120T204517Z
UID:10012495-1779530400-1779541200@eaglevalleycf.org
SUMMARY:The Community Market Edwards
DESCRIPTION:The Community Market offers fresh\, free groceries to Eagle County residents in need to shop at their convenience.
URL:https://eaglevalleycf.org/event/the-community-market-edwards-5/2026-05-23/
LOCATION:The Community Market Edwards\, 429 Edwards Access Rd A202\, Edwards\, CO\, 81632\, United States
CATEGORIES:Community Market
ATTACH;FMTTYPE=image/jpeg:https://eaglevalleycf.org/wp-content/uploads/2026/01/TCM-Edwards-Window-Graphics-IMG_6929.jpg
END:VEVENT
BEGIN:VEVENT
DTSTART;TZID=UTC:20260526T130000
DTEND;TZID=UTC:20260526T180000
DTSTAMP:20260422T092713
CREATED:20260120T212435Z
LAST-MODIFIED:20260120T212435Z
UID:10012634-1779800400-1779818400@eaglevalleycf.org
SUMMARY:The Community Market Edwards
DESCRIPTION:The Community Market offers fresh\, free groceries to Eagle County residents in need to shop at their convenience.
URL:https://eaglevalleycf.org/event/the-community-market-edwards-6/2026-05-26/
LOCATION:The Community Market Edwards\, 429 Edwards Access Rd A202\, Edwards\, CO\, 81632\, United States
CATEGORIES:Community Market
ATTACH;FMTTYPE=image/jpeg:https://eaglevalleycf.org/wp-content/uploads/2026/01/TCM-Edwards-Window-Graphics-IMG_6929.jpg
END:VEVENT
BEGIN:VEVENT
DTSTART;TZID=UTC:20260527T130000
DTEND;TZID=UTC:20260527T180000
DTSTAMP:20260422T092713
CREATED:20260120T212435Z
LAST-MODIFIED:20260120T212435Z
UID:10012635-1779886800-1779904800@eaglevalleycf.org
SUMMARY:The Community Market Edwards
DESCRIPTION:The Community Market offers fresh\, free groceries to Eagle County residents in need to shop at their convenience.
URL:https://eaglevalleycf.org/event/the-community-market-edwards-6/2026-05-27/
LOCATION:The Community Market Edwards\, 429 Edwards Access Rd A202\, Edwards\, CO\, 81632\, United States
CATEGORIES:Community Market
ATTACH;FMTTYPE=image/jpeg:https://eaglevalleycf.org/wp-content/uploads/2026/01/TCM-Edwards-Window-Graphics-IMG_6929.jpg
END:VEVENT
BEGIN:VEVENT
DTSTART;TZID=UTC:20260528T130000
DTEND;TZID=UTC:20260528T180000
DTSTAMP:20260422T092713
CREATED:20260120T212435Z
LAST-MODIFIED:20260120T212435Z
UID:10012636-1779973200-1779991200@eaglevalleycf.org
SUMMARY:The Community Market Edwards
DESCRIPTION:The Community Market offers fresh\, free groceries to Eagle County residents in need to shop at their convenience.
URL:https://eaglevalleycf.org/event/the-community-market-edwards-6/2026-05-28/
LOCATION:The Community Market Edwards\, 429 Edwards Access Rd A202\, Edwards\, CO\, 81632\, United States
CATEGORIES:Community Market
ATTACH;FMTTYPE=image/jpeg:https://eaglevalleycf.org/wp-content/uploads/2026/01/TCM-Edwards-Window-Graphics-IMG_6929.jpg
END:VEVENT
BEGIN:VEVENT
DTSTART;TZID=UTC:20260530T100000
DTEND;TZID=UTC:20260530T130000
DTSTAMP:20260422T092713
CREATED:20260120T204437Z
LAST-MODIFIED:20260120T204517Z
UID:10012496-1780135200-1780146000@eaglevalleycf.org
SUMMARY:The Community Market Edwards
DESCRIPTION:The Community Market offers fresh\, free groceries to Eagle County residents in need to shop at their convenience.
URL:https://eaglevalleycf.org/event/the-community-market-edwards-5/2026-05-30/
LOCATION:The Community Market Edwards\, 429 Edwards Access Rd A202\, Edwards\, CO\, 81632\, United States
CATEGORIES:Community Market
ATTACH;FMTTYPE=image/jpeg:https://eaglevalleycf.org/wp-content/uploads/2026/01/TCM-Edwards-Window-Graphics-IMG_6929.jpg
END:VEVENT
BEGIN:VEVENT
DTSTART;TZID=UTC:20260602T130000
DTEND;TZID=UTC:20260602T180000
DTSTAMP:20260422T092713
CREATED:20260120T212435Z
LAST-MODIFIED:20260120T212435Z
UID:10012637-1780405200-1780423200@eaglevalleycf.org
SUMMARY:The Community Market Edwards
DESCRIPTION:The Community Market offers fresh\, free groceries to Eagle County residents in need to shop at their convenience.
URL:https://eaglevalleycf.org/event/the-community-market-edwards-6/2026-06-02/
LOCATION:The Community Market Edwards\, 429 Edwards Access Rd A202\, Edwards\, CO\, 81632\, United States
CATEGORIES:Community Market
ATTACH;FMTTYPE=image/jpeg:https://eaglevalleycf.org/wp-content/uploads/2026/01/TCM-Edwards-Window-Graphics-IMG_6929.jpg
END:VEVENT
BEGIN:VEVENT
DTSTART;TZID=UTC:20260603T130000
DTEND;TZID=UTC:20260603T180000
DTSTAMP:20260422T092713
CREATED:20260120T212435Z
LAST-MODIFIED:20260120T212435Z
UID:10012638-1780491600-1780509600@eaglevalleycf.org
SUMMARY:The Community Market Edwards
DESCRIPTION:The Community Market offers fresh\, free groceries to Eagle County residents in need to shop at their convenience.
URL:https://eaglevalleycf.org/event/the-community-market-edwards-6/2026-06-03/
LOCATION:The Community Market Edwards\, 429 Edwards Access Rd A202\, Edwards\, CO\, 81632\, United States
CATEGORIES:Community Market
ATTACH;FMTTYPE=image/jpeg:https://eaglevalleycf.org/wp-content/uploads/2026/01/TCM-Edwards-Window-Graphics-IMG_6929.jpg
END:VEVENT
BEGIN:VEVENT
DTSTART;TZID=UTC:20260604T130000
DTEND;TZID=UTC:20260604T180000
DTSTAMP:20260422T092713
CREATED:20260120T212435Z
LAST-MODIFIED:20260120T212435Z
UID:10012639-1780578000-1780596000@eaglevalleycf.org
SUMMARY:The Community Market Edwards
DESCRIPTION:The Community Market offers fresh\, free groceries to Eagle County residents in need to shop at their convenience.
URL:https://eaglevalleycf.org/event/the-community-market-edwards-6/2026-06-04/
LOCATION:The Community Market Edwards\, 429 Edwards Access Rd A202\, Edwards\, CO\, 81632\, United States
CATEGORIES:Community Market
ATTACH;FMTTYPE=image/jpeg:https://eaglevalleycf.org/wp-content/uploads/2026/01/TCM-Edwards-Window-Graphics-IMG_6929.jpg
END:VEVENT
BEGIN:VEVENT
DTSTART;TZID=UTC:20260606T100000
DTEND;TZID=UTC:20260606T130000
DTSTAMP:20260422T092713
CREATED:20260120T204437Z
LAST-MODIFIED:20260120T204517Z
UID:10012497-1780740000-1780750800@eaglevalleycf.org
SUMMARY:The Community Market Edwards
DESCRIPTION:The Community Market offers fresh\, free groceries to Eagle County residents in need to shop at their convenience.
URL:https://eaglevalleycf.org/event/the-community-market-edwards-5/2026-06-06/
LOCATION:The Community Market Edwards\, 429 Edwards Access Rd A202\, Edwards\, CO\, 81632\, United States
CATEGORIES:Community Market
ATTACH;FMTTYPE=image/jpeg:https://eaglevalleycf.org/wp-content/uploads/2026/01/TCM-Edwards-Window-Graphics-IMG_6929.jpg
END:VEVENT
BEGIN:VEVENT
DTSTART;TZID=UTC:20260609T130000
DTEND;TZID=UTC:20260609T180000
DTSTAMP:20260422T092713
CREATED:20260120T212435Z
LAST-MODIFIED:20260120T212435Z
UID:10012640-1781010000-1781028000@eaglevalleycf.org
SUMMARY:The Community Market Edwards
DESCRIPTION:The Community Market offers fresh\, free groceries to Eagle County residents in need to shop at their convenience.
URL:https://eaglevalleycf.org/event/the-community-market-edwards-6/2026-06-09/
LOCATION:The Community Market Edwards\, 429 Edwards Access Rd A202\, Edwards\, CO\, 81632\, United States
CATEGORIES:Community Market
ATTACH;FMTTYPE=image/jpeg:https://eaglevalleycf.org/wp-content/uploads/2026/01/TCM-Edwards-Window-Graphics-IMG_6929.jpg
END:VEVENT
BEGIN:VEVENT
DTSTART;TZID=UTC:20260610T130000
DTEND;TZID=UTC:20260610T180000
DTSTAMP:20260422T092713
CREATED:20260120T212435Z
LAST-MODIFIED:20260120T212435Z
UID:10012641-1781096400-1781114400@eaglevalleycf.org
SUMMARY:The Community Market Edwards
DESCRIPTION:The Community Market offers fresh\, free groceries to Eagle County residents in need to shop at their convenience.
URL:https://eaglevalleycf.org/event/the-community-market-edwards-6/2026-06-10/
LOCATION:The Community Market Edwards\, 429 Edwards Access Rd A202\, Edwards\, CO\, 81632\, United States
CATEGORIES:Community Market
ATTACH;FMTTYPE=image/jpeg:https://eaglevalleycf.org/wp-content/uploads/2026/01/TCM-Edwards-Window-Graphics-IMG_6929.jpg
END:VEVENT
BEGIN:VEVENT
DTSTART;TZID=UTC:20260611T130000
DTEND;TZID=UTC:20260611T180000
DTSTAMP:20260422T092713
CREATED:20260120T212435Z
LAST-MODIFIED:20260120T212435Z
UID:10012642-1781182800-1781200800@eaglevalleycf.org
SUMMARY:The Community Market Edwards
DESCRIPTION:The Community Market offers fresh\, free groceries to Eagle County residents in need to shop at their convenience.
URL:https://eaglevalleycf.org/event/the-community-market-edwards-6/2026-06-11/
LOCATION:The Community Market Edwards\, 429 Edwards Access Rd A202\, Edwards\, CO\, 81632\, United States
CATEGORIES:Community Market
ATTACH;FMTTYPE=image/jpeg:https://eaglevalleycf.org/wp-content/uploads/2026/01/TCM-Edwards-Window-Graphics-IMG_6929.jpg
END:VEVENT
BEGIN:VEVENT
DTSTART;TZID=UTC:20260613T100000
DTEND;TZID=UTC:20260613T130000
DTSTAMP:20260422T092713
CREATED:20260120T204437Z
LAST-MODIFIED:20260120T204517Z
UID:10012498-1781344800-1781355600@eaglevalleycf.org
SUMMARY:The Community Market Edwards
DESCRIPTION:The Community Market offers fresh\, free groceries to Eagle County residents in need to shop at their convenience.
URL:https://eaglevalleycf.org/event/the-community-market-edwards-5/2026-06-13/
LOCATION:The Community Market Edwards\, 429 Edwards Access Rd A202\, Edwards\, CO\, 81632\, United States
CATEGORIES:Community Market
ATTACH;FMTTYPE=image/jpeg:https://eaglevalleycf.org/wp-content/uploads/2026/01/TCM-Edwards-Window-Graphics-IMG_6929.jpg
END:VEVENT
BEGIN:VEVENT
DTSTART;TZID=UTC:20260616T130000
DTEND;TZID=UTC:20260616T180000
DTSTAMP:20260422T092713
CREATED:20260120T212435Z
LAST-MODIFIED:20260120T212435Z
UID:10012643-1781614800-1781632800@eaglevalleycf.org
SUMMARY:The Community Market Edwards
DESCRIPTION:The Community Market offers fresh\, free groceries to Eagle County residents in need to shop at their convenience.
URL:https://eaglevalleycf.org/event/the-community-market-edwards-6/2026-06-16/
LOCATION:The Community Market Edwards\, 429 Edwards Access Rd A202\, Edwards\, CO\, 81632\, United States
CATEGORIES:Community Market
ATTACH;FMTTYPE=image/jpeg:https://eaglevalleycf.org/wp-content/uploads/2026/01/TCM-Edwards-Window-Graphics-IMG_6929.jpg
END:VEVENT
BEGIN:VEVENT
DTSTART;TZID=UTC:20260617T130000
DTEND;TZID=UTC:20260617T180000
DTSTAMP:20260422T092713
CREATED:20260120T212435Z
LAST-MODIFIED:20260120T212435Z
UID:10012644-1781701200-1781719200@eaglevalleycf.org
SUMMARY:The Community Market Edwards
DESCRIPTION:The Community Market offers fresh\, free groceries to Eagle County residents in need to shop at their convenience.
URL:https://eaglevalleycf.org/event/the-community-market-edwards-6/2026-06-17/
LOCATION:The Community Market Edwards\, 429 Edwards Access Rd A202\, Edwards\, CO\, 81632\, United States
CATEGORIES:Community Market
ATTACH;FMTTYPE=image/jpeg:https://eaglevalleycf.org/wp-content/uploads/2026/01/TCM-Edwards-Window-Graphics-IMG_6929.jpg
END:VEVENT
BEGIN:VEVENT
DTSTART;TZID=UTC:20260618T130000
DTEND;TZID=UTC:20260618T180000
DTSTAMP:20260422T092713
CREATED:20260120T212435Z
LAST-MODIFIED:20260120T212435Z
UID:10012645-1781787600-1781805600@eaglevalleycf.org
SUMMARY:The Community Market Edwards
DESCRIPTION:The Community Market offers fresh\, free groceries to Eagle County residents in need to shop at their convenience.
URL:https://eaglevalleycf.org/event/the-community-market-edwards-6/2026-06-18/
LOCATION:The Community Market Edwards\, 429 Edwards Access Rd A202\, Edwards\, CO\, 81632\, United States
CATEGORIES:Community Market
ATTACH;FMTTYPE=image/jpeg:https://eaglevalleycf.org/wp-content/uploads/2026/01/TCM-Edwards-Window-Graphics-IMG_6929.jpg
END:VEVENT
BEGIN:VEVENT
DTSTART;TZID=UTC:20260620T100000
DTEND;TZID=UTC:20260620T130000
DTSTAMP:20260422T092713
CREATED:20260120T204437Z
LAST-MODIFIED:20260120T204517Z
UID:10012499-1781949600-1781960400@eaglevalleycf.org
SUMMARY:The Community Market Edwards
DESCRIPTION:The Community Market offers fresh\, free groceries to Eagle County residents in need to shop at their convenience.
URL:https://eaglevalleycf.org/event/the-community-market-edwards-5/2026-06-20/
LOCATION:The Community Market Edwards\, 429 Edwards Access Rd A202\, Edwards\, CO\, 81632\, United States
CATEGORIES:Community Market
ATTACH;FMTTYPE=image/jpeg:https://eaglevalleycf.org/wp-content/uploads/2026/01/TCM-Edwards-Window-Graphics-IMG_6929.jpg
END:VEVENT
BEGIN:VEVENT
DTSTART;TZID=UTC:20260623T130000
DTEND;TZID=UTC:20260623T180000
DTSTAMP:20260422T092713
CREATED:20260120T212435Z
LAST-MODIFIED:20260120T212435Z
UID:10012646-1782219600-1782237600@eaglevalleycf.org
SUMMARY:The Community Market Edwards
DESCRIPTION:The Community Market offers fresh\, free groceries to Eagle County residents in need to shop at their convenience.
URL:https://eaglevalleycf.org/event/the-community-market-edwards-6/2026-06-23/
LOCATION:The Community Market Edwards\, 429 Edwards Access Rd A202\, Edwards\, CO\, 81632\, United States
CATEGORIES:Community Market
ATTACH;FMTTYPE=image/jpeg:https://eaglevalleycf.org/wp-content/uploads/2026/01/TCM-Edwards-Window-Graphics-IMG_6929.jpg
END:VEVENT
BEGIN:VEVENT
DTSTART;TZID=UTC:20260624T130000
DTEND;TZID=UTC:20260624T180000
DTSTAMP:20260422T092713
CREATED:20260120T212435Z
LAST-MODIFIED:20260120T212435Z
UID:10012647-1782306000-1782324000@eaglevalleycf.org
SUMMARY:The Community Market Edwards
DESCRIPTION:The Community Market offers fresh\, free groceries to Eagle County residents in need to shop at their convenience.
URL:https://eaglevalleycf.org/event/the-community-market-edwards-6/2026-06-24/
LOCATION:The Community Market Edwards\, 429 Edwards Access Rd A202\, Edwards\, CO\, 81632\, United States
CATEGORIES:Community Market
ATTACH;FMTTYPE=image/jpeg:https://eaglevalleycf.org/wp-content/uploads/2026/01/TCM-Edwards-Window-Graphics-IMG_6929.jpg
END:VEVENT
BEGIN:VEVENT
DTSTART;TZID=UTC:20260625T130000
DTEND;TZID=UTC:20260625T180000
DTSTAMP:20260422T092713
CREATED:20260120T212435Z
LAST-MODIFIED:20260120T212435Z
UID:10012648-1782392400-1782410400@eaglevalleycf.org
SUMMARY:The Community Market Edwards
DESCRIPTION:The Community Market offers fresh\, free groceries to Eagle County residents in need to shop at their convenience.
URL:https://eaglevalleycf.org/event/the-community-market-edwards-6/2026-06-25/
LOCATION:The Community Market Edwards\, 429 Edwards Access Rd A202\, Edwards\, CO\, 81632\, United States
CATEGORIES:Community Market
ATTACH;FMTTYPE=image/jpeg:https://eaglevalleycf.org/wp-content/uploads/2026/01/TCM-Edwards-Window-Graphics-IMG_6929.jpg
END:VEVENT
BEGIN:VEVENT
DTSTART;TZID=UTC:20260627T100000
DTEND;TZID=UTC:20260627T130000
DTSTAMP:20260422T092713
CREATED:20260120T204437Z
LAST-MODIFIED:20260120T204517Z
UID:10012500-1782554400-1782565200@eaglevalleycf.org
SUMMARY:The Community Market Edwards
DESCRIPTION:The Community Market offers fresh\, free groceries to Eagle County residents in need to shop at their convenience.
URL:https://eaglevalleycf.org/event/the-community-market-edwards-5/2026-06-27/
LOCATION:The Community Market Edwards\, 429 Edwards Access Rd A202\, Edwards\, CO\, 81632\, United States
CATEGORIES:Community Market
ATTACH;FMTTYPE=image/jpeg:https://eaglevalleycf.org/wp-content/uploads/2026/01/TCM-Edwards-Window-Graphics-IMG_6929.jpg
END:VEVENT
BEGIN:VEVENT
DTSTART;TZID=UTC:20260630T130000
DTEND;TZID=UTC:20260630T180000
DTSTAMP:20260422T092713
CREATED:20260120T212435Z
LAST-MODIFIED:20260120T212435Z
UID:10012649-1782824400-1782842400@eaglevalleycf.org
SUMMARY:The Community Market Edwards
DESCRIPTION:The Community Market offers fresh\, free groceries to Eagle County residents in need to shop at their convenience.
URL:https://eaglevalleycf.org/event/the-community-market-edwards-6/2026-06-30/
LOCATION:The Community Market Edwards\, 429 Edwards Access Rd A202\, Edwards\, CO\, 81632\, United States
CATEGORIES:Community Market
ATTACH;FMTTYPE=image/jpeg:https://eaglevalleycf.org/wp-content/uploads/2026/01/TCM-Edwards-Window-Graphics-IMG_6929.jpg
END:VEVENT
BEGIN:VEVENT
DTSTART;TZID=UTC:20260701T130000
DTEND;TZID=UTC:20260701T180000
DTSTAMP:20260422T092713
CREATED:20260120T212435Z
LAST-MODIFIED:20260120T212435Z
UID:10012650-1782910800-1782928800@eaglevalleycf.org
SUMMARY:The Community Market Edwards
DESCRIPTION:The Community Market offers fresh\, free groceries to Eagle County residents in need to shop at their convenience.
URL:https://eaglevalleycf.org/event/the-community-market-edwards-6/2026-07-01/
LOCATION:The Community Market Edwards\, 429 Edwards Access Rd A202\, Edwards\, CO\, 81632\, United States
CATEGORIES:Community Market
ATTACH;FMTTYPE=image/jpeg:https://eaglevalleycf.org/wp-content/uploads/2026/01/TCM-Edwards-Window-Graphics-IMG_6929.jpg
END:VEVENT
BEGIN:VEVENT
DTSTART;TZID=UTC:20260702T130000
DTEND;TZID=UTC:20260702T180000
DTSTAMP:20260422T092713
CREATED:20260120T212435Z
LAST-MODIFIED:20260120T212435Z
UID:10012651-1782997200-1783015200@eaglevalleycf.org
SUMMARY:The Community Market Edwards
DESCRIPTION:The Community Market offers fresh\, free groceries to Eagle County residents in need to shop at their convenience.
URL:https://eaglevalleycf.org/event/the-community-market-edwards-6/2026-07-02/
LOCATION:The Community Market Edwards\, 429 Edwards Access Rd A202\, Edwards\, CO\, 81632\, United States
CATEGORIES:Community Market
ATTACH;FMTTYPE=image/jpeg:https://eaglevalleycf.org/wp-content/uploads/2026/01/TCM-Edwards-Window-Graphics-IMG_6929.jpg
END:VEVENT
END:VCALENDAR