BEGIN:VCALENDAR
VERSION:2.0
PRODID:-//Eagle Valley Community Foundation - ECPv6.15.20//NONSGML v1.0//EN
CALSCALE:GREGORIAN
METHOD:PUBLISH
X-ORIGINAL-URL:https://eaglevalleycf.org
X-WR-CALDESC:Events for Eagle Valley Community Foundation
REFRESH-INTERVAL;VALUE=DURATION:PT1H
X-Robots-Tag:noindex
X-PUBLISHED-TTL:PT1H
BEGIN:VTIMEZONE
TZID:UTC
BEGIN:STANDARD
TZOFFSETFROM:+0000
TZOFFSETTO:+0000
TZNAME:UTC
DTSTART:20220101T000000
END:STANDARD
END:VTIMEZONE
BEGIN:VEVENT
DTSTART;TZID=UTC:20231026T120000
DTEND;TZID=UTC:20231026T160000
DTSTAMP:20260420T143433
CREATED:20231012T164524Z
LAST-MODIFIED:20231012T164524Z
UID:10004785-1698321600-1698336000@eaglevalleycf.org
SUMMARY:MIRA at English in Action
DESCRIPTION:MIRA brings FREE resources and services throughout Eagle County: \n\nInformation/referrals to medical services\, behavioral health (adults/children)\, dental services\, early childhood\, parenting\, and physical activity programs\nEnrollment to assistance programs: Medicaid; SNAP; WIC\nThe Community Market: FREE food\n\nResource Connection Hours: \n\nHealth Insurance Enrollments: 9:30am — 4:00pm\nEagle County Paramedics: 3:00pm — 5:00pm
URL:https://eaglevalleycf.org/event/mira-at-english-in-action/
LOCATION:English in Action\, 33 Gillespie Drive\, Carbondale\, CO\, 81623\, United States
CATEGORIES:Mira
ATTACH;FMTTYPE=image/png:https://eaglevalleycf.org/wp-content/uploads/2023/10/MIRA-EnglishInAction.png
END:VEVENT
END:VCALENDAR