BEGIN:VCALENDAR
VERSION:2.0
PRODID:-//Eagle Valley Community Foundation - ECPv6.15.20//NONSGML v1.0//EN
CALSCALE:GREGORIAN
METHOD:PUBLISH
X-WR-CALNAME:Eagle Valley Community Foundation
X-ORIGINAL-URL:https://eaglevalleycf.org
X-WR-CALDESC:Events for Eagle Valley Community Foundation
REFRESH-INTERVAL;VALUE=DURATION:PT1H
X-Robots-Tag:noindex
X-PUBLISHED-TTL:PT1H
BEGIN:VTIMEZONE
TZID:UTC
BEGIN:STANDARD
TZOFFSETFROM:+0000
TZOFFSETTO:+0000
TZNAME:UTC
DTSTART:20240101T000000
END:STANDARD
END:VTIMEZONE
BEGIN:VEVENT
DTSTART;TZID=UTC:20251216T150000
DTEND;TZID=UTC:20251216T180000
DTSTAMP:20260421T133658
CREATED:20251129T171258Z
LAST-MODIFIED:20251129T171258Z
UID:10009637-1765897200-1765908000@eaglevalleycf.org
SUMMARY:Las Posadas
DESCRIPTION:A free community celebration for families across Eagle County brought to you by the programs of Eagle Valley Community Foundation. \nTuesday\, December 16 | 3:00-6:00 PM | The Community Market Gypsum \nHealth Resources & Screenings \nInsurance Enrollment Support \nFamily Fun & Children’s Activities \nFestive Foods \nFree Winter Clothing & Blankets *while supplies
URL:https://eaglevalleycf.org/event/las-posadas/
LOCATION:The Community Market Gypsum\, 760 Lindbergh Drive Unit 7\, Gypsum\, CO\, 81637\, United States
CATEGORIES:Community Foundation
ATTACH;FMTTYPE=image/png:https://eaglevalleycf.org/wp-content/uploads/2025/11/Posadas-2025-ESP.png
END:VEVENT
END:VCALENDAR