BEGIN:VCALENDAR
VERSION:2.0
PRODID:-//Eagle Valley Community Foundation - ECPv6.15.20//NONSGML v1.0//EN
CALSCALE:GREGORIAN
METHOD:PUBLISH
X-ORIGINAL-URL:https://eaglevalleycf.org
X-WR-CALDESC:Events for Eagle Valley Community Foundation
REFRESH-INTERVAL;VALUE=DURATION:PT1H
X-Robots-Tag:noindex
X-PUBLISHED-TTL:PT1H
BEGIN:VTIMEZONE
TZID:UTC
BEGIN:STANDARD
TZOFFSETFROM:+0000
TZOFFSETTO:+0000
TZNAME:UTC
DTSTART:20240101T000000
END:STANDARD
END:VTIMEZONE
BEGIN:VEVENT
DTSTART;TZID=UTC:20251027T100000
DTEND;TZID=UTC:20251027T160000
DTSTAMP:20260420T223416
CREATED:20230911T223820Z
LAST-MODIFIED:20251231T015254Z
UID:10001506-1761559200-1761580800@eaglevalleycf.org
SUMMARY:The Community Market Gypsum
DESCRIPTION:The Community Market offers free and fresh groceries to Eagle County residents in need to shop at their convenience.
URL:https://eaglevalleycf.org/event/the-community-market-gypsum/2025-10-27/
LOCATION:The Community Market Gypsum\, 760 Lindbergh Drive Unit 7\, Gypsum\, CO\, 81637\, United States
CATEGORIES:Community Market
ATTACH;FMTTYPE=application/pdf:https://eaglevalleycf.org/wp-content/uploads/2023/09/Untitled-design.pdf
END:VEVENT
BEGIN:VEVENT
DTSTART;TZID=UTC:20251027T110000
DTEND;TZID=UTC:20251027T123000
DTSTAMP:20260420T223416
CREATED:20251023T203914Z
LAST-MODIFIED:20251023T203914Z
UID:10008925-1761562800-1761568200@eaglevalleycf.org
SUMMARY:Coffee with the Candidates
DESCRIPTION:Coffee with the Candidates \nHosted by Elevar\, a program of Eagle Valley Community Foundation \nJoin us for an informal community conversation with the candidates for Eagle Town Council & Mayor! \nHear about their vision for small business growth\, support for the BIPOC community\, and ideas for building a more inclusive Eagle. \nEnjoy a cup of coffee\, ask questions\, and share what matters most to you.  \n\nDATE: Monday\, October 27\nLOCATION: The Tea Party (403 Broadway\, Eagle)\nTIME: 11:00 AM\n\nQuestions? Contact Sofia\, Elevar Program Manager\, at sofia@eaglevalleycf.org or 970-445-4976
URL:https://eaglevalleycf.org/event/coffee-with-the-candidates/
LOCATION:The Tea Party\, 403 Broadway\, Eagle\, 81631\, United States
CATEGORIES:Elevar
ATTACH;FMTTYPE=image/png:https://eaglevalleycf.org/wp-content/uploads/2025/10/ENG.png
END:VEVENT
END:VCALENDAR