BEGIN:VCALENDAR
VERSION:2.0
PRODID:-//Eagle Valley Community Foundation - ECPv6.15.20//NONSGML v1.0//EN
CALSCALE:GREGORIAN
METHOD:PUBLISH
X-ORIGINAL-URL:https://eaglevalleycf.org
X-WR-CALDESC:Events for Eagle Valley Community Foundation
REFRESH-INTERVAL;VALUE=DURATION:PT1H
X-Robots-Tag:noindex
X-PUBLISHED-TTL:PT1H
BEGIN:VTIMEZONE
TZID:UTC
BEGIN:STANDARD
TZOFFSETFROM:+0000
TZOFFSETTO:+0000
TZNAME:UTC
DTSTART:20240101T000000
END:STANDARD
END:VTIMEZONE
BEGIN:VEVENT
DTSTART;VALUE=DATE:20250619
DTEND;VALUE=DATE:20250620
DTSTAMP:20260421T023505
CREATED:20250604T172044Z
LAST-MODIFIED:20250604T172044Z
UID:10008254-1750291200-1750377599@eaglevalleycf.org
SUMMARY:MIRA Closed for Juneteenth
DESCRIPTION:
URL:https://eaglevalleycf.org/event/mira-closed-for-juneteenth/
LOCATION:CO
CATEGORIES:Mira
ATTACH;FMTTYPE=image/png:https://eaglevalleycf.org/wp-content/uploads/2025/06/Juneteenth-Instagram-Post-1920-x-1080-px.png
END:VEVENT
BEGIN:VEVENT
DTSTART;TZID=UTC:20250619T100000
DTEND;TZID=UTC:20250619T160000
DTSTAMP:20260421T023505
CREATED:20230911T223820Z
LAST-MODIFIED:20251231T015254Z
UID:10001432-1750327200-1750348800@eaglevalleycf.org
SUMMARY:The Community Market Gypsum
DESCRIPTION:The Community Market offers free and fresh groceries to Eagle County residents in need to shop at their convenience.
URL:https://eaglevalleycf.org/event/the-community-market-gypsum/2025-06-19/
LOCATION:The Community Market Gypsum\, 760 Lindbergh Drive Unit 7\, Gypsum\, CO\, 81637\, United States
CATEGORIES:Community Market
ATTACH;FMTTYPE=application/pdf:https://eaglevalleycf.org/wp-content/uploads/2023/09/Untitled-design.pdf
END:VEVENT
END:VCALENDAR