BEGIN:VCALENDAR
VERSION:2.0
PRODID:-//Eagle Valley Community Foundation - ECPv6.15.20//NONSGML v1.0//EN
CALSCALE:GREGORIAN
METHOD:PUBLISH
X-WR-CALNAME:Eagle Valley Community Foundation
X-ORIGINAL-URL:https://eaglevalleycf.org
X-WR-CALDESC:Events for Eagle Valley Community Foundation
REFRESH-INTERVAL;VALUE=DURATION:PT1H
X-Robots-Tag:noindex
X-PUBLISHED-TTL:PT1H
BEGIN:VTIMEZONE
TZID:UTC
BEGIN:STANDARD
TZOFFSETFROM:+0000
TZOFFSETTO:+0000
TZNAME:UTC
DTSTART:20240101T000000
END:STANDARD
END:VTIMEZONE
BEGIN:VEVENT
DTSTART;TZID=UTC:20250520T113000
DTEND;TZID=UTC:20250520T150000
DTSTAMP:20260419T145509
CREATED:20250506T000452Z
LAST-MODIFIED:20250506T000452Z
UID:10006090-1747740600-1747753200@eaglevalleycf.org
SUMMARY:MIRA at The Community Market Edwards
DESCRIPTION:MIRA brings information and connect resources and services throughout Eagle County: \n\nInformation/referrals to medical services\, behavioral health (adults/children)\, dental services\, early childhood\, parenting\, and physical activity programs\nEnrollment to assistance programs: Medicaid and SNAP.\nThe Community Market: FREE food\nPerinatal health and wellness support.\nInformation about acquisition of COVID-19 and other vaccinations. \n\nThe MIRA team can enroll community members in these programs every day- come check them\, get connected\, and get enrolled! \n\nThe Supplemental Nutrition Assistance Program (SNAP)\n\nFormerly known as ‘food stamps\,’ is a nutrition program that provides monthly food benefits to low-income households to supplement their grocery budget.\n\n\nMedicaid\n\nMedicaid provides free or low-cost health coverage to eligible persons.\n\n\nBenefit Recovery Program (BRF)\n\nA statewide program for unemployed undocumented workers in Colorado who have or will receive a W-2 tax form from their employer\, who have lost their job through no fault of their own and who are not eligible to receive traditional wage replacement assistance.\n\n\nPerinatal Support\n\nFree resource connection and personalized care to improve mental and overall wellbeing of mothers\, fathers\, and families in our community.\n\n\n\nEarly Head Stars: 1:00-3:00pm \nCaregiver Connections: 11:30-3:00pm
URL:https://eaglevalleycf.org/event/mira-at-the-community-market-edwards-18/
LOCATION:The Community Market Edwards\, 429 Edwards Access Rd A202\, Edwards\, CO\, 81632\, United States
CATEGORIES:Mira
ATTACH;FMTTYPE=image/jpeg:https://eaglevalleycf.org/wp-content/uploads/2023/09/DSC_4557-1.jpg
END:VEVENT
BEGIN:VEVENT
DTSTART;TZID=UTC:20250520T120000
DTEND;TZID=UTC:20250520T150000
DTSTAMP:20260419T145509
CREATED:20250515T204124Z
LAST-MODIFIED:20250515T204124Z
UID:10008220-1747742400-1747753200@eaglevalleycf.org
SUMMARY:Thrive Together: Celebrate & Support Older Adults
DESCRIPTION:THRIVE TOGETHER: CELEBRATING OLDER ADULTS MONTH \nJoin MIRA and Caregiver Connections to celebrate and to bring resources\, support\, and friendly faces directly to you. Whether you’re an older adult or a caregiver\, join us to connect and learn about resources for helping older adults age in place with family & loved ones. \nTUESDAY\, MAY 20 | 12:00PM – 3:00PM | The Community Market in Edwards \nWEDNESDAY\, MAY 28 | 9:30AM – 1:00PM | The Community Market in Gypsum \n 
URL:https://eaglevalleycf.org/event/thrive-together-celebrate-support-older-adults/
LOCATION:The Community Market Edwards\, 429 Edwards Access Rd A202\, Edwards\, CO\, 81632\, United States
CATEGORIES:Mira
ATTACH;FMTTYPE=image/png:https://eaglevalleycf.org/wp-content/uploads/2025/05/CaregiversConnections-MIRA-event-ESP.png
END:VEVENT
BEGIN:VEVENT
DTSTART;TZID=UTC:20250520T130000
DTEND;TZID=UTC:20250520T180000
DTSTAMP:20260419T145509
CREATED:20260120T201339Z
LAST-MODIFIED:20260120T201339Z
UID:10012330-1747746000-1747764000@eaglevalleycf.org
SUMMARY:The Community Market Edwards
DESCRIPTION:The Community Market offers fresh\, free groceries to Eagle County residents in need to shop at their convenience.
URL:https://eaglevalleycf.org/event/the-community-market-edwards-4/2025-05-20/
LOCATION:The Community Market Edwards\, 429 Edwards Access Rd A202\, Edwards\, CO\, 81632\, United States
CATEGORIES:Community Market
ATTACH;FMTTYPE=image/jpeg:https://eaglevalleycf.org/wp-content/uploads/2026/01/TCM-Edwards-Window-Graphics-IMG_6929.jpg
END:VEVENT
BEGIN:VEVENT
DTSTART;TZID=UTC:20250520T170000
DTEND;TZID=UTC:20250520T200000
DTSTAMP:20260419T145509
CREATED:20250515T044220Z
LAST-MODIFIED:20250515T164503Z
UID:10008218-1747760400-1747771200@eaglevalleycf.org
SUMMARY:MIRA Cancer Prevention Event
DESCRIPTION:In partnership with the University of Colorado Cancer Center\, Connect for Health Colorado\, and the Latino Public Health Initiative\, MIRA invites you to join us for a free\, bilingual community event focused on cancer prevention\, early detection\, and the overall well-being of our families and  community. \nTUESDAY\, MAY 20 5:00 PM – 8:00 PM \nCOLORADO MOUNTAIN COLLEGE\, EDWARDS CAMPUS \nFREE FOOD AND CHILDCARE \nLUNG CANCER \n\nFree radon testing to detect risks in the home\nInformation about the effects of tobacco and vaping\nFree support to quit smoking or vaping\nEducation on lung\n\nCOLON CANCER \n\nFree FIT tests for uninsured individuals ages 45 to 75\nSupport from health navigators for follow-up and access to colonoscopies Education on early detection and risk factors\n\nSKIN CANCER \n\nInformation on sun protection and identifying warning signs\nFree kits for skin cancer prevention\nResources for skin care in high sun-exposure environments\n\nNUTRITION & WELLNESS \n\nNutrition education to prevent chronic diseases\nBalanced eating recommendations\nLocal resources for access to healthy foods\n\nRESOURCE NAVIGATION \n\nPersonalized support to connect you with clinics\, specialists\, and local programs\nInformation on how to access medica care\, prevention programs\, and financial assistance\nBilingual and culturally relevant navigation\n\n  \nThank you to our partners at Colorado Cancer Coalition\, Connect for Health Colorado\, and Latino Cancer Task Force.
URL:https://eaglevalleycf.org/event/mira-cancer-prevention-event/
LOCATION:Colorado Mountain College\, 150 Miller Ranch Rd\, Edwards\, CO\, 81632\, United States
CATEGORIES:Mira
ATTACH;FMTTYPE=image/jpeg:https://eaglevalleycf.org/wp-content/uploads/2025/05/MIRA-Cancer-Prevention-Event-ENG.jpg
END:VEVENT
END:VCALENDAR