BEGIN:VCALENDAR
VERSION:2.0
PRODID:-//Eagle Valley Community Foundation - ECPv6.15.20//NONSGML v1.0//EN
CALSCALE:GREGORIAN
METHOD:PUBLISH
X-ORIGINAL-URL:https://eaglevalleycf.org
X-WR-CALDESC:Events for Eagle Valley Community Foundation
REFRESH-INTERVAL;VALUE=DURATION:PT1H
X-Robots-Tag:noindex
X-PUBLISHED-TTL:PT1H
BEGIN:VTIMEZONE
TZID:UTC
BEGIN:STANDARD
TZOFFSETFROM:+0000
TZOFFSETTO:+0000
TZNAME:UTC
DTSTART:20240101T000000
END:STANDARD
END:VTIMEZONE
BEGIN:VEVENT
DTSTART;TZID=UTC:20250211T093000
DTEND;TZID=UTC:20250211T170000
DTSTAMP:20260422T133100
CREATED:20250204T223558Z
LAST-MODIFIED:20250204T223558Z
UID:10005877-1739266200-1739293200@eaglevalleycf.org
SUMMARY:MIRA at Edwards Mobile Homes
DESCRIPTION:MIRA brings information and connect resources and services throughout Eagle County: \n\nInformation/referrals to medical services\, behavioral health (adults/children)\, dental services\, early childhood\, parenting\, and physical activity programs\nEnrollment to assistance programs: Medicaid and SNAP.\nThe Community Market: FREE food\n\nThe MIRA team can enroll community members in these programs every day- come check them\, get connected\, and get enrolled! \n\nThe Supplemental Nutrition Assistance Program (SNAP)\n\nFormerly known as ‘food stamps\,’ is a nutrition program that provides monthly food benefits to low-income households to supplement their grocery budget.\n\n\nMedicaid\n\nMedicaid provides free or low-cost health coverage to eligible persons.\n\n\nBenefit Recovery Program (BRF)\n\nA statewide program for unemployed undocumented workers in Colorado who have or will receive a W-2 tax form from their employer\, who have lost their job through no fault of their own and who are not eligible to receive traditional wage replacement assistance.\n\n\nCOVID-19 vaccination information \n\nUpdated COVID-19 vaccination information provided.
URL:https://eaglevalleycf.org/event/mira-at-edwards-mobile-homes-4/
LOCATION:Edwards Mobile Homes Mountain View\, 32700 US-6\, Edwards\, CO\, 81632\, United States
CATEGORIES:Mira
ATTACH;FMTTYPE=image/jpeg:https://eaglevalleycf.org/wp-content/uploads/2024/08/IMG_20180122_110206188.jpg
END:VEVENT
BEGIN:VEVENT
DTSTART;TZID=UTC:20250211T130000
DTEND;TZID=UTC:20250211T180000
DTSTAMP:20260422T133100
CREATED:20260120T201339Z
LAST-MODIFIED:20260120T201339Z
UID:10012288-1739278800-1739296800@eaglevalleycf.org
SUMMARY:The Community Market Edwards
DESCRIPTION:The Community Market offers fresh\, free groceries to Eagle County residents in need to shop at their convenience.
URL:https://eaglevalleycf.org/event/the-community-market-edwards-4/2025-02-11/
LOCATION:The Community Market Edwards\, 429 Edwards Access Rd A202\, Edwards\, CO\, 81632\, United States
CATEGORIES:Community Market
ATTACH;FMTTYPE=image/jpeg:https://eaglevalleycf.org/wp-content/uploads/2026/01/TCM-Edwards-Window-Graphics-IMG_6929.jpg
END:VEVENT
END:VCALENDAR