BEGIN:VCALENDAR
VERSION:2.0
PRODID:-//Eagle Valley Community Foundation - ECPv6.15.20//NONSGML v1.0//EN
CALSCALE:GREGORIAN
METHOD:PUBLISH
X-WR-CALNAME:Eagle Valley Community Foundation
X-ORIGINAL-URL:https://eaglevalleycf.org
X-WR-CALDESC:Events for Eagle Valley Community Foundation
REFRESH-INTERVAL;VALUE=DURATION:PT1H
X-Robots-Tag:noindex
X-PUBLISHED-TTL:PT1H
BEGIN:VTIMEZONE
TZID:UTC
BEGIN:STANDARD
TZOFFSETFROM:+0000
TZOFFSETTO:+0000
TZNAME:UTC
DTSTART:20230101T000000
END:STANDARD
END:VTIMEZONE
BEGIN:VEVENT
DTSTART;TZID=UTC:20241209T093000
DTEND;TZID=UTC:20241209T170000
DTSTAMP:20260420T224417
CREATED:20241204T034641Z
LAST-MODIFIED:20241204T034641Z
UID:10005765-1733736600-1733763600@eaglevalleycf.org
SUMMARY:MIRA at EagleBend Apartments
DESCRIPTION:MIRA brings information and connect resources and services throughout Eagle County: \n\nInformation/referrals to medical services\, behavioral health (adults/children)\, dental services\, early childhood\, parenting\, and physical activity programs\nEnrollment to assistance programs: Medicaid and SNAP.\nThe Community Market: FREE food\n\nThe MIRA team can enroll community members in these programs every day- come check them\, get connected\, and get enrolled! \n\nThe Supplemental Nutrition Assistance Program (SNAP)\n\nFormerly known as ‘food stamps\,’ is a nutrition program that provides monthly food benefits to low-income households to supplement their grocery budget.\n\n\nMedicaid\n\nMedicaid provides free or low-cost health coverage to eligible persons.\n\n\nBenefit Recovery Program (BRF)\n\nA statewide program for unemployed undocumented workers in Colorado who have or will receive a W-2 tax form from their employer\, who have lost their job through no fault of their own and who are not eligible to receive traditional wage replacement assistance.\n\n\n\nHealth Screenings by Eagle County Paramedics: 1:00pm-4:00pm
URL:https://eaglevalleycf.org/event/mira-at-eaglebend-apartments-9/
LOCATION:Eagle Bend Apartments\, 38723 US-6\, Avon\, CO\, 81620\, United States
CATEGORIES:Mira
ATTACH;FMTTYPE=image/png:https://eaglevalleycf.org/wp-content/uploads/2023/10/MIRA-EagleBend-Apts.png
END:VEVENT
BEGIN:VEVENT
DTSTART;TZID=UTC:20241209T100000
DTEND;TZID=UTC:20241209T160000
DTSTAMP:20260420T224417
CREATED:20230911T223820Z
LAST-MODIFIED:20251231T015254Z
UID:10001322-1733738400-1733760000@eaglevalleycf.org
SUMMARY:The Community Market Gypsum
DESCRIPTION:The Community Market offers free and fresh groceries to Eagle County residents in need to shop at their convenience.
URL:https://eaglevalleycf.org/event/the-community-market-gypsum/2024-12-09/
LOCATION:The Community Market Gypsum\, 760 Lindbergh Drive Unit 7\, Gypsum\, CO\, 81637\, United States
CATEGORIES:Community Market
ATTACH;FMTTYPE=application/pdf:https://eaglevalleycf.org/wp-content/uploads/2023/09/Untitled-design.pdf
END:VEVENT
END:VCALENDAR