BEGIN:VCALENDAR
VERSION:2.0
PRODID:-//Eagle Valley Community Foundation - ECPv6.15.20//NONSGML v1.0//EN
CALSCALE:GREGORIAN
METHOD:PUBLISH
X-WR-CALNAME:Eagle Valley Community Foundation
X-ORIGINAL-URL:https://eaglevalleycf.org
X-WR-CALDESC:Events for Eagle Valley Community Foundation
REFRESH-INTERVAL;VALUE=DURATION:PT1H
X-Robots-Tag:noindex
X-PUBLISHED-TTL:PT1H
BEGIN:VTIMEZONE
TZID:UTC
BEGIN:STANDARD
TZOFFSETFROM:+0000
TZOFFSETTO:+0000
TZNAME:UTC
DTSTART:20230101T000000
END:STANDARD
END:VTIMEZONE
BEGIN:VEVENT
DTSTART;TZID=UTC:20241119T093000
DTEND;TZID=UTC:20241119T170000
DTSTAMP:20260421T001857
CREATED:20241101T041541Z
LAST-MODIFIED:20241101T041541Z
UID:10005735-1732008600-1732035600@eaglevalleycf.org
SUMMARY:MIRA at Edwards Mobile Homes
DESCRIPTION:MIRA brings information and connect resources and services throughout Eagle County: \n\nInformation/referrals to medical services\, behavioral health (adults/children)\, dental services\, early childhood\, parenting\, and physical activity programs\nEnrollment to assistance programs: Medicaid and SNAP.\nThe Community Market: FREE food\n\nThe MIRA team can enroll community members in these programs every day- come check them\, get connected\, and get enrolled! \n\nThe Supplemental Nutrition Assistance Program (SNAP)\n\nFormerly known as ‘food stamps\,’ is a nutrition program that provides monthly food benefits to low-income households to supplement their grocery budget.\n\n\nMedicaid\n\nMedicaid provides free or low-cost health coverage to eligible persons.\n\n\nBenefit Recovery Program (BRF)\n\nA statewide program for unemployed undocumented workers in Colorado who have or will receive a W-2 tax form from their employer\, who have lost their job through no fault of their own and who are not eligible to receive traditional wage replacement assistance.\n\n\n\nEarly Head Start: 10:00am-1:30pm \nPerinatal Mental Health Event: 5:30-7:30pm
URL:https://eaglevalleycf.org/event/mira-at-edwards-mobile-homes/
LOCATION:Edwards Mobile Homes Mountain View\, 32700 US-6\, Edwards\, CO\, 81632\, United States
CATEGORIES:Mira
ATTACH;FMTTYPE=image/jpeg:https://eaglevalleycf.org/wp-content/uploads/2024/08/IMG_20180122_110206188.jpg
END:VEVENT
BEGIN:VEVENT
DTSTART;TZID=UTC:20241119T173000
DTEND;TZID=UTC:20241119T193000
DTSTAMP:20260421T001857
CREATED:20241101T051900Z
LAST-MODIFIED:20241101T051900Z
UID:10005753-1732037400-1732044600@eaglevalleycf.org
SUMMARY:MIRA Maternal Mental Health Workshop
DESCRIPTION:MIRAs Perinatal Program is proud to be hosting a Maternal Mental Health and Post Partum Depression Workshop \nDiscover valuable information\, strategies for support\, and a space to share experiences. Together\, we can foster awareness and understanding in this vital area of wellness. Don’t miss this opportunity to connect and learn! \nRSVP to Sofia: \nsofia@eaglevalleycf.org \nphone; 970-343-2655 \nJoin us for: \n\n\nInformation on available resources \n\nOpen to families and the community \n\nDinner and child care will be provided \nPrices and gifts
URL:https://eaglevalleycf.org/event/mira-maternal-mental-health-workshop/
LOCATION:Lake Creek Village Apartments\, 4923 Lake Creek Village Blvd\, Edwards\, CO\, 81632\, United States
CATEGORIES:Mira
ATTACH;FMTTYPE=image/png:https://eaglevalleycf.org/wp-content/uploads/2023/10/MIRA-LakeCreekVillageApartments.png
END:VEVENT
BEGIN:VEVENT
DTSTART;TZID=UTC:20241119T173000
DTEND;TZID=UTC:20241119T193000
DTSTAMP:20260421T001857
CREATED:20241104T001319Z
LAST-MODIFIED:20241104T001319Z
UID:10005755-1732037400-1732044600@eaglevalleycf.org
SUMMARY:MIRA Workshop on Maternal Mental Health & Postpartum Depression
DESCRIPTION:Join us for a MIRA Workshop on Maternal Mental Health & Postpartum Depression. \nDiscover valuable information\, strategies for support\, and a safe space to share experiences. Together\, we can foster awareness and understanding in this vital area of wellness. \nRSVP to Sofia: sofia@eaglevalleycf.org or 970-343-2655
URL:https://eaglevalleycf.org/event/mira-workshop-on-maternal-mental-health-postpartum-depression/
LOCATION:Lake Creek Village Apartments\, 4923 Lake Creek Village Blvd\, Edwards\, CO\, 81632\, United States
CATEGORIES:Mira
ATTACH;FMTTYPE=image/png:https://eaglevalleycf.org/wp-content/uploads/2024/11/Maternal-Mental-Health-PPD.png
END:VEVENT
END:VCALENDAR